BEGIN:VCALENDAR
VERSION:2.0
PRODID:-//Center for Musical Arts - ECPv6.15.20//NONSGML v1.0//EN
CALSCALE:GREGORIAN
METHOD:PUBLISH
X-WR-CALNAME:Center for Musical Arts
X-ORIGINAL-URL:https://centerformusicalarts.org
X-WR-CALDESC:Events for Center for Musical Arts
REFRESH-INTERVAL;VALUE=DURATION:PT1H
X-Robots-Tag:noindex
X-PUBLISHED-TTL:PT1H
BEGIN:VTIMEZONE
TZID:America/Denver
BEGIN:DAYLIGHT
TZOFFSETFROM:-0700
TZOFFSETTO:-0600
TZNAME:MDT
DTSTART:20240310T090000
END:DAYLIGHT
BEGIN:STANDARD
TZOFFSETFROM:-0600
TZOFFSETTO:-0700
TZNAME:MST
DTSTART:20241103T080000
END:STANDARD
BEGIN:DAYLIGHT
TZOFFSETFROM:-0700
TZOFFSETTO:-0600
TZNAME:MDT
DTSTART:20250309T090000
END:DAYLIGHT
BEGIN:STANDARD
TZOFFSETFROM:-0600
TZOFFSETTO:-0700
TZNAME:MST
DTSTART:20251102T080000
END:STANDARD
BEGIN:DAYLIGHT
TZOFFSETFROM:-0700
TZOFFSETTO:-0600
TZNAME:MDT
DTSTART:20260308T090000
END:DAYLIGHT
BEGIN:STANDARD
TZOFFSETFROM:-0600
TZOFFSETTO:-0700
TZNAME:MST
DTSTART:20261101T080000
END:STANDARD
END:VTIMEZONE
BEGIN:VEVENT
DTSTART;VALUE=DATE:20250419
DTEND;VALUE=DATE:20250527
DTSTAMP:20260422T024439
CREATED:20250421T190014Z
LAST-MODIFIED:20250501T162947Z
UID:346488-1745020800-1748303999@centerformusicalarts.org
SUMMARY:Spring Studio & Ensemble Performances
DESCRIPTION:Celebrate our students\, instructors\, and community during our spring performances! \nAll performances are in Founders’ Hall unless noted otherwise \nStudents of Larina Gray | Sat. April 19\, 4:30 PM \nBroadway on Baseline | Sat. May 3\, 7:00 PM \nCelebrate CMA! | Sun. May 4\, 5:00 PM \nVoice Students of Raouf Zaidan | Mon. May 5\, 7:30 PM\, Grimes Hall \nStudents of Michael Quam | Fri. May 9\, 7:00 PM \nStudents of Rachel Fetler | Sat. May 10\, 11:00 AM \nStudents of Ryan Sapp | Sat. May 10\, 2:00 PM \nStudents of Ruth Galloway | Sat. May 10\, 2:30 PM\, Grimes Hall \nStudents of Anne Brennand | Sat. May 10\, 4:00 PM \nChamber Music (students of Larina Gray) | Sat. May 10\, 4:30 PM\, Grimes Hall \nKids’ Choirs | Wed. May 14\, 6:00 PM\, Grimes Hall \nStudents of Alex Sierra | Fri. May 16\, 6:00 PM \nStudents of Becca Kronyak | Sat. May 17\, 10:30 AM \nStudents of Jackson McLellan | Sat. May 17\, 12:00 PM \nStudents of Rick Pruitt | Sat. May 17\, 1:00 PM\, Grimes Hall \nStudents of Jessica Daniel | Sun. May 18\, 3:00 PM \nMonday Jazz Bands | Mon. May 19\, 6:00 PM \nStudents of Sarah Summar | Wed. May 21\, 5:30 PM\, Grimes Hall \nWednesday Jazz Bands | Wed. May 21\, 6:00 PM \nPiano Students of Raouf Zaidan | Fri. May 23\, 7:00 PM \nStudents of Matheus Pagliacci | Sat. May 24\, 11:00 AM\, Grimes Hall \nAll recitals are free and open to the public!
URL:https://centerformusicalarts.org/event/spring-student-performances/
LOCATION:Center for Musical Arts\, 200 E Baseline Rd\, Lafayette\, CO\, 80026\, United States
CATEGORIES:CMA Events (show on homepage)
ATTACH;FMTTYPE=image/png:https://centerformusicalarts.org/wp-content/uploads/2025/04/Copy-of-OLD-Event-Templates-for-Website-2.png
END:VEVENT
END:VCALENDAR