BEGIN:VCALENDAR
VERSION:2.0
PRODID:-//Center for Musical Arts - ECPv6.15.20//NONSGML v1.0//EN
CALSCALE:GREGORIAN
METHOD:PUBLISH
X-WR-CALNAME:Center for Musical Arts
X-ORIGINAL-URL:https://centerformusicalarts.org
X-WR-CALDESC:Events for Center for Musical Arts
REFRESH-INTERVAL;VALUE=DURATION:PT1H
X-Robots-Tag:noindex
X-PUBLISHED-TTL:PT1H
BEGIN:VTIMEZONE
TZID:America/Denver
BEGIN:DAYLIGHT
TZOFFSETFROM:-0700
TZOFFSETTO:-0600
TZNAME:MDT
DTSTART:20230312T090000
END:DAYLIGHT
BEGIN:STANDARD
TZOFFSETFROM:-0600
TZOFFSETTO:-0700
TZNAME:MST
DTSTART:20231105T080000
END:STANDARD
BEGIN:DAYLIGHT
TZOFFSETFROM:-0700
TZOFFSETTO:-0600
TZNAME:MDT
DTSTART:20240310T090000
END:DAYLIGHT
BEGIN:STANDARD
TZOFFSETFROM:-0600
TZOFFSETTO:-0700
TZNAME:MST
DTSTART:20241103T080000
END:STANDARD
BEGIN:DAYLIGHT
TZOFFSETFROM:-0700
TZOFFSETTO:-0600
TZNAME:MDT
DTSTART:20250309T090000
END:DAYLIGHT
BEGIN:STANDARD
TZOFFSETFROM:-0600
TZOFFSETTO:-0700
TZNAME:MST
DTSTART:20251102T080000
END:STANDARD
END:VTIMEZONE
BEGIN:VEVENT
DTSTART;VALUE=DATE:20240301
DTEND;VALUE=DATE:20240525
DTSTAMP:20260425T043625
CREATED:20240222T210540Z
LAST-MODIFIED:20240226T171109Z
UID:275887-1709251200-1716595199@centerformusicalarts.org
SUMMARY:Spring Student Performances
DESCRIPTION:Celebrate our students\, instructors\, and community during our spring performances! View the full list of performances here >
URL:https://centerformusicalarts.org/event/2024-spring-student-performances/
LOCATION:Center for Musical Arts\, 200 E Baseline Rd\, Lafayette\, CO\, 80026\, United States
CATEGORIES:CMA Events (show on homepage)
ATTACH;FMTTYPE=image/png:https://centerformusicalarts.org/wp-content/uploads/2024/02/Website-Event-Images-2.jpg
END:VEVENT
BEGIN:VEVENT
DTSTART;TZID=America/Denver:20240505T170000
DTEND;TZID=America/Denver:20240505T170000
DTSTAMP:20260425T043625
CREATED:20240410T181855Z
LAST-MODIFIED:20240410T181855Z
UID:276675-1714928400-1714928400@centerformusicalarts.org
SUMMARY:Celebrate CMA!
DESCRIPTION:Celebrate CMA! wraps up the year by bringing together individual performers and ensembles of all ages to showcase the achievements of our CMA students. A reception follows the performance.
URL:https://centerformusicalarts.org/event/celebrate-cma-2024/
LOCATION:Center for Musical Arts\, 200 E Baseline Rd\, Lafayette\, CO\, 80026\, United States
CATEGORIES:CMA Events (show on homepage)
ATTACH;FMTTYPE=image/jpeg:https://centerformusicalarts.org/wp-content/uploads/2024/04/Celebrate-CMA.jpg
END:VEVENT
BEGIN:VEVENT
DTSTART;TZID=America/Denver:20240510T193000
DTEND;TZID=America/Denver:20240510T193000
DTSTAMP:20260425T043625
CREATED:20230602T230757Z
LAST-MODIFIED:20240508T155611Z
UID:274177-1715369400-1715369400@centerformusicalarts.org
SUMMARY:SOLD OUT: Pianist Ying Li
DESCRIPTION:This concert is sold out – no door sales or waitlist. \nPianist Ying Li is the First Prize winner of the 2021 Young Concert Artists Susan Wadsworth International Auditions\, as well as recipient of The Bridgehampton Chamber Music Festival Prize and the Tri-I Noon Recitals Prize. In this stunning program\, Li performs music by Prokofiev\, Haydn\, Ravel\, and Liszt.  \nMay 10\, 2024\n7:30 pm\, doors open at 7 pm\nTickets: $25 adult\, $10 youth/student \nRepertoire (subject to change):\nPiano Sonata No. 14 in C-Sharp Minor\, Op. 27 No. 2 “Moonlight”  Ludwig van Beethoven (1770-1827)\n“Ramble on the Last Love-duet” from Der Rosenkavalier  Richard Strauss (1864-1949) arr. Grainger\nPi Huang\, Zhao Zhang (1964- )\n—\nWaldszenen\, Op. 82 Robert Schumann (1810-1856)\nLa Valse Maurice Ravel (1875-1937)
URL:https://centerformusicalarts.org/event/pianist-ying-li/
LOCATION:Center for Musical Arts\, 200 E Baseline Rd\, Lafayette\, CO\, 80026\, United States
CATEGORIES:2022-23 Concert Series (show on Concert Series page),CMA Events (show on homepage)
END:VEVENT
END:VCALENDAR