BEGIN:VCALENDAR
VERSION:2.0
PRODID:-//Center for Musical Arts - ECPv6.15.20//NONSGML v1.0//EN
CALSCALE:GREGORIAN
METHOD:PUBLISH
X-WR-CALNAME:Center for Musical Arts
X-ORIGINAL-URL:https://centerformusicalarts.org
X-WR-CALDESC:Events for Center for Musical Arts
REFRESH-INTERVAL;VALUE=DURATION:PT1H
X-Robots-Tag:noindex
X-PUBLISHED-TTL:PT1H
BEGIN:VTIMEZONE
TZID:America/Denver
BEGIN:DAYLIGHT
TZOFFSETFROM:-0700
TZOFFSETTO:-0600
TZNAME:MDT
DTSTART:20230312T090000
END:DAYLIGHT
BEGIN:STANDARD
TZOFFSETFROM:-0600
TZOFFSETTO:-0700
TZNAME:MST
DTSTART:20231105T080000
END:STANDARD
BEGIN:DAYLIGHT
TZOFFSETFROM:-0700
TZOFFSETTO:-0600
TZNAME:MDT
DTSTART:20240310T090000
END:DAYLIGHT
BEGIN:STANDARD
TZOFFSETFROM:-0600
TZOFFSETTO:-0700
TZNAME:MST
DTSTART:20241103T080000
END:STANDARD
BEGIN:DAYLIGHT
TZOFFSETFROM:-0700
TZOFFSETTO:-0600
TZNAME:MDT
DTSTART:20250309T090000
END:DAYLIGHT
BEGIN:STANDARD
TZOFFSETFROM:-0600
TZOFFSETTO:-0700
TZNAME:MST
DTSTART:20251102T080000
END:STANDARD
END:VTIMEZONE
BEGIN:VEVENT
DTSTART;TZID=America/Denver:20241025T193000
DTEND;TZID=America/Denver:20241025T210000
DTSTAMP:20260425T041658
CREATED:20240703T010401Z
LAST-MODIFIED:20241025T180848Z
UID:277306-1729884600-1729890000@centerformusicalarts.org
SUMMARY:Bryan Wallick\, piano
DESCRIPTION:Bryan Wallick is gaining recognition as one of the great American virtuoso pianists of his generation. Gold medalist of the 1997 Vladimir Horowitz International Piano Competition in Kiev\, he has performed throughout the United States\, Europe\, and Africa. Wallick currently serves as Assistant Professor of Piano at Colorado State University. bryanwallick.com \nSee our Frequently Asked Questions > \nProgram (subject to change)\nBach\, Toccata and Fugue D Major BWV 912\nClara Schumann\, Prelude and Fugue in G Minor Op. 16 No. 1\nRobert Schumann\, Fugues Op. Op. 72 No 1 and 2\nShostakovich\, Prelude and Fugue Op. 87 No. 24\n—\nLiszt\, Sonata in B Minor
URL:https://centerformusicalarts.org/event/bryan-wallick-piano/
LOCATION:Center for Musical Arts\, 200 E Baseline Rd\, Lafayette\, CO\, 80026\, United States
CATEGORIES:2022-23 Concert Series (show on Concert Series page),CMA Events (show on homepage)
ATTACH;FMTTYPE=image/jpeg:https://centerformusicalarts.org/wp-content/uploads/2024/06/Bryan-Wallick.jpg
END:VEVENT
BEGIN:VEVENT
DTSTART;TZID=America/Denver:20241027T170000
DTEND;TZID=America/Denver:20241027T183000
DTSTAMP:20260425T041658
CREATED:20241007T203040Z
LAST-MODIFIED:20241007T210052Z
UID:278237-1730048400-1730053800@centerformusicalarts.org
SUMMARY:Student Open Recital
DESCRIPTION:This fall\, the Center for Musical Arts Open Recital will take place on Sunday\, Oct. 27 at 5pm in\nFounders Hall.  It is free and open to the public! Applications are due before Monday\, October 21. \nWhat is the Open Recital?\nIt is an optional opportunity for current CMA students to show what they are working on in their lessons! It’s different from the studio recitals held by many of our teachers because students from all over the school participate\, performing many different styles on many different instruments\, so you can really hear what inspires us!  You can still participate in your teacher’s studio recital\, as well. \nDo I have to be really good?\nYou don’t have to be an advanced musician to participate. But\, we want it to be a positive recital experience for you\, so pick something you can play really well — even if it’s easy! Your teacher can help you pick your music and give the best performance possible. (Of course\, we love our virtuoso students too!) \nThis recital does not have an audition requirement.  \nHow do I sign up?\nFill in the Open Recital Application before Oct 21 and you’ll be on the program!  Be sure to have your piece picked out before you sign up.  If you need an accompanist\, we can provide one\, but you have to get your music in early.  You can also bring someone in to perform with you — a relative\, friend\, or your teacher — as long as it’s music you are already working on at the CMA. \nQuestions? Email Rachel Fetler: rachel@comusic.org \nSign up using the link here: https://shorturl.at/tGTQd
URL:https://centerformusicalarts.org/event/student-open-recital/
LOCATION:Center for Musical Arts\, 200 E Baseline Rd\, Lafayette\, CO\, 80026\, United States
CATEGORIES:CMA Events (show on homepage),Community Events (show only on All Events page)
ATTACH;FMTTYPE=image/png:https://centerformusicalarts.org/wp-content/uploads/2024/10/Capture.jpg
END:VEVENT
END:VCALENDAR