BEGIN:VCALENDAR
VERSION:2.0
PRODID:-//Center for Musical Arts - ECPv6.15.20//NONSGML v1.0//EN
CALSCALE:GREGORIAN
METHOD:PUBLISH
X-WR-CALNAME:Center for Musical Arts
X-ORIGINAL-URL:https://centerformusicalarts.org
X-WR-CALDESC:Events for Center for Musical Arts
REFRESH-INTERVAL;VALUE=DURATION:PT1H
X-Robots-Tag:noindex
X-PUBLISHED-TTL:PT1H
BEGIN:VTIMEZONE
TZID:UTC
BEGIN:STANDARD
TZOFFSETFROM:+0000
TZOFFSETTO:+0000
TZNAME:UTC
DTSTART:20220101T000000
END:STANDARD
END:VTIMEZONE
BEGIN:VTIMEZONE
TZID:America/Denver
BEGIN:DAYLIGHT
TZOFFSETFROM:-0700
TZOFFSETTO:-0600
TZNAME:MDT
DTSTART:20220313T090000
END:DAYLIGHT
BEGIN:STANDARD
TZOFFSETFROM:-0600
TZOFFSETTO:-0700
TZNAME:MST
DTSTART:20221106T080000
END:STANDARD
BEGIN:DAYLIGHT
TZOFFSETFROM:-0700
TZOFFSETTO:-0600
TZNAME:MDT
DTSTART:20230312T090000
END:DAYLIGHT
BEGIN:STANDARD
TZOFFSETFROM:-0600
TZOFFSETTO:-0700
TZNAME:MST
DTSTART:20231105T080000
END:STANDARD
BEGIN:DAYLIGHT
TZOFFSETFROM:-0700
TZOFFSETTO:-0600
TZNAME:MDT
DTSTART:20240310T090000
END:DAYLIGHT
BEGIN:STANDARD
TZOFFSETFROM:-0600
TZOFFSETTO:-0700
TZNAME:MST
DTSTART:20241103T080000
END:STANDARD
END:VTIMEZONE
BEGIN:VEVENT
DTSTART;TZID=UTC:20230407T193000
DTEND;TZID=UTC:20230407T193000
DTSTAMP:20260423T221749
CREATED:20220815T170347Z
LAST-MODIFIED:20230306T182226Z
UID:272019-1680895800-1680895800@centerformusicalarts.org
SUMMARY:SOLD OUT: Pianist Dmytro Choni\, 2022 Cliburn Bronze Medalist
DESCRIPTION:This concert is sold out; tickets will not be available at the door.  \nThe Center for Musical Arts is thrilled to welcome pianist Dmytro Choni\, bronze medalist of the 2022 Van Cliburn International Piano Competition. His acclaimed debut album contains works by Debussy\, Ginastera\, Ligeti\, and Prokofiev. Dmytro calls music a “hideaway from what’s going on in the world. Through the music\, you can try to project the best possible emotion\, the optimism\, the hope.” Meet Dmytro and hear his astounding Cliburn performances. \nTickets: $20 adult; $10 student (18 and under)\nGeneral admission; doors open at 7 pm \nSee other concerts in this series > \nPresented by Harlan and Lois Anderson Family Foundation
URL:https://centerformusicalarts.org/event/dmytro-choni/
LOCATION:Center for Musical Arts\, 200 E Baseline Rd\, Lafayette\, CO\, 80026\, United States
CATEGORIES:2022-23 Concert Series (show on Concert Series page)
ATTACH;FMTTYPE=image/jpeg:https://centerformusicalarts.org/wp-content/uploads/2022/07/3.jpg
END:VEVENT
BEGIN:VEVENT
DTSTART;VALUE=DATE:20230415
DTEND;VALUE=DATE:20230527
DTSTAMP:20260423T221749
CREATED:20230406T184032Z
LAST-MODIFIED:20230418T164725Z
UID:273868-1681516800-1685145599@centerformusicalarts.org
SUMMARY:Spring Studio Recitals
DESCRIPTION:Come celebrate our students and their instructors in our series of Spring Studio Recitals! Recitals are free and open to the public. \nSee the full list of recitals here.
URL:https://centerformusicalarts.org/event/spring-studio-recitals/
LOCATION:Center for Musical Arts\, 200 E Baseline Rd\, Lafayette\, CO\, 80026\, United States
CATEGORIES:CMA Events (show on homepage)
ATTACH;FMTTYPE=image/jpeg:https://centerformusicalarts.org/wp-content/uploads/2023/04/Studio-Recitals.jpg
END:VEVENT
BEGIN:VEVENT
DTSTART;VALUE=DATE:20230422
DTEND;VALUE=DATE:20230424
DTSTAMP:20260423T221749
CREATED:20230330T155014Z
LAST-MODIFIED:20230418T182913Z
UID:273817-1682121600-1682294399@centerformusicalarts.org
SUMMARY:Lafayette Electronic Arts Festival
DESCRIPTION:The Lafayette Electronic Arts Festival (LEAF) is a partner of the Center for Musical Arts. \nLEAF2023 – Lafayette Electronic Arts Festival featuring Rue Bainbridge\nFREE: 7pm\, Friday\, April 21st\, 2023\nFounder’s Hall\, Center for Musical Arts\, 200 E Baseline Rd\, Lafayette\, CO 80026 \nRue Bainbridge\, the duo of Gryphon Rue and Benton C Bainbridge\, exists in the intersection of expanded cinema and sonic art. Generating electric calligraphy with a hacked game console\, the light patterns become a score\, with visual rhythmicity suggesting electro-acoustic events. Perception shifts as light and sound momentarily synchronize\, tracing a zone of concentrated intricacy. Rue Bainbridge is the first recipient of the Nam June Paik and Shigeko Kubota Video Art prize (2019). The pair currently live on opposite coasts of the United States. \nMore info: https://leafcolorado.org/leaf2023-rue-bainbridge/ \nLEAF2023 – Lafayette Electronic Arts Festival – Ryan Wurst & Aaron Alexander\nFREE: 7pm\, Saturday\, April 22nd\, 2023\nFounder’s Hall\, Center for Musical Arts\, 200 E Baseline Rd\, Lafayette\, CO 80026 \nRyan Wurst and Aaron Alexander perform an improvisational mix of generative ambience and camera-based visuals processed and mixed in real-time. Hailing from Pueblo\, CO where both teach media-based music and art at the University of Colorado\, the duo explore slow-moving sonic motifs that surge and swell through live visual pan/tilt/zoom explorations of intimate environments constructed in tiny terrariums. \nMore info: https://leafcolorado.org/leaf2023-ryan-wurst-aaron-alexander/ \nLEAF2023 – Lafayette Electronic Arts Festival featuring Carbon Diablo Ensemble\nFREE: 7pm\, Saturday\, April 22nd\, 2023\nGrimes Hall\, Center for Musical Arts\, 200 E Baseline Rd\, Lafayette\, CO 80026 \nThe Carbon Dioxide Ensemble and Diablo Montalban join forces as the Carbon Diablo Ensemble to present a multimedia deconstruction\, reconstruction\, and live score for the 1910 silent film Frankenstein.\nThe Carbon Dioxide Ensemble performs improvisational musique concrète with interactive visuals. Members include Thomas Lundy on Copper Heart articulated with dry ice\, Victoria Lundy on Theremin and Live Electronics\, and Mark Mosher on Live Sampling\, Visuals\, and Mix.\nPerformance artist Diablo Montalban\, the Master of Audio Disaster\, mixes live art through sound collage\, drawing inspiration from music\, pop culture\, and noise. Diablo works spontaneously\, creating pieces that are unique for the moment. \nMore info: https://leafcolorado.org/leaf2023-carbon-diablo-ensemble/
URL:https://centerformusicalarts.org/event/leaf-2023/
LOCATION:Center for Musical Arts\, 200 E Baseline Rd\, Lafayette\, CO\, 80026\, United States
CATEGORIES:CMA Events (show on homepage)
ATTACH;FMTTYPE=image/jpeg:https://centerformusicalarts.org/wp-content/uploads/2023/03/Website-Event-Images-2.jpg
END:VEVENT
BEGIN:VEVENT
DTSTART;TZID=America/Denver:20230423T150000
DTEND;TZID=America/Denver:20230423T160000
DTSTAMP:20260423T221749
CREATED:20230118T195058Z
LAST-MODIFIED:20230118T195058Z
UID:273272-1682262000-1682265600@centerformusicalarts.org
SUMMARY:Faculty and Friends Play the Music of Erik Marchelie
DESCRIPTION:Erik Marchelie\, a contemporary composer and guitarist\, has written beautiful music for guitar paired with a variety of instruments. This concert will showcase his music interpreted by members of the Center for Musical Arts community. There will be solo guitar works\, guitar duets\, guitar and viola\, guitar and harp\, guitar and cello\, guitar and flute\, and guitar and piano.
URL:https://centerformusicalarts.org/event/music-of-erik-marchelie/
LOCATION:Center for Musical Arts\, 200 E Baseline Rd\, Lafayette\, CO\, 80026\, United States
CATEGORIES:CMA Events (show on homepage)
ATTACH;FMTTYPE=image/jpeg:https://centerformusicalarts.org/wp-content/uploads/2023/01/Website-Event-Images.jpg
END:VEVENT
BEGIN:VEVENT
DTSTART;TZID=America/Denver:20230429T190000
DTEND;TZID=America/Denver:20230429T200000
DTSTAMP:20260423T221749
CREATED:20230323T162533Z
LAST-MODIFIED:20230323T163349Z
UID:273772-1682794800-1682798400@centerformusicalarts.org
SUMMARY:Music for Transformation
DESCRIPTION:This event was submitted by Center faculty member Anne Brennand \nThis program presents three sonatas for cello and piano by Debussy\, Beethoven\, and Cesar Franck\, which address the composers’ search for meaning through radical change of style\, passionate soul searching\, and dedication to cultural renewal. \nfeaturing Anne Brennand\, cello and Lisa Harrington\, piano
URL:https://centerformusicalarts.org/event/music-for-transformation/
LOCATION:Center for Musical Arts\, 200 E Baseline Rd\, Lafayette\, CO\, 80026\, United States
CATEGORIES:CMA Events (show on homepage)
ATTACH;FMTTYPE=image/jpeg:https://centerformusicalarts.org/wp-content/uploads/2023/03/Website-Event-Images.jpg
END:VEVENT
BEGIN:VEVENT
DTSTART;TZID=America/Denver:20230430T170000
DTEND;TZID=America/Denver:20230430T170000
DTSTAMP:20260423T221749
CREATED:20230406T184239Z
LAST-MODIFIED:20230418T165038Z
UID:273870-1682874000-1682874000@centerformusicalarts.org
SUMMARY:Celebrate CMA!
DESCRIPTION:Formerly known as the Honors Recital\, the Celebrate CMA! Concert features students of all ages who have auditioned for a place on this special concert. We’re celebrating the hard work of CMA students\, and featuring appearances by the LifeSong Chorus and Coro Santuario. A reception follows the performance. \nSee our full list of Spring Studio Recitals here. 
URL:https://centerformusicalarts.org/event/celebrate-cma/
LOCATION:Center for Musical Arts\, 200 E Baseline Rd\, Lafayette\, CO\, 80026\, United States
CATEGORIES:CMA Events (show on homepage)
ATTACH;FMTTYPE=image/jpeg:https://centerformusicalarts.org/wp-content/uploads/2023/04/Celebrate-CMA.jpg
END:VEVENT
END:VCALENDAR